BEGIN:VCALENDAR
VERSION:2.0
PRODID:-//hacksw/handcal//NONSGML v1.0//EN
BEGIN:VEVENT
SUMMARY:entrainement salle Chevreul
UID:31d2b895-4ad6-4b18-8685-a9d74222dc91
DTSTART:20260429T183000Z
DTEND:20260429T203000Z
LOCATION:Localisation   
CATEGORIES:Sportif
STATUS:
URL;VALUE=URI:https://ascchuvb-angers.sportsregions.fr/evenements/2026/04/29/entrainement-salle-chevreul-2438498
END:VEVENT
END:VCALENDAR
