BEGIN:VCALENDAR
VERSION:2.0
PRODID:-//hacksw/handcal//NONSGML v1.0//EN
BEGIN:VEVENT
SUMMARY:entrainement salle Chevreul
UID:db79ae21-09a5-41bd-9005-dd133243b63c
DTSTART:20260415T180000Z
DTEND:20260415T203000Z
LOCATION:Localisation   
CATEGORIES:Sportif
STATUS:
URL;VALUE=URI:https://ascchuvb-angers.sportsregions.fr/evenements/2026/04/15/entrainement-salle-chevreul-2438496
END:VEVENT
END:VCALENDAR
