BEGIN:VCALENDAR
VERSION:2.0
PRODID:-//hacksw/handcal//NONSGML v1.0//EN
BEGIN:VEVENT
SUMMARY:entrainement salle Chevreul
UID:58694c58-209e-422b-bfa2-848dca2ecd0c
DTSTART:20260408T183000Z
DTEND:20260408T203000Z
LOCATION:Localisation   
CATEGORIES:Sportif
STATUS:
URL;VALUE=URI:https://ascchuvb-angers.sportsregions.fr/evenements/2026/04/08/entrainement-salle-chevreul-2438494
END:VEVENT
END:VCALENDAR
