BEGIN:VCALENDAR
VERSION:2.0
PRODID:-//hacksw/handcal//NONSGML v1.0//EN
BEGIN:VEVENT
SUMMARY:entrainement salle Chevreul
UID:b116aeb3-f00b-44ff-8bd6-011482a6060d
DTSTART:20260401T183000Z
DTEND:20260401T203000Z
LOCATION:Localisation   
CATEGORIES:Sportif
STATUS:
URL;VALUE=URI:https://ascchuvb-angers.sportsregions.fr/evenements/2026/04/01/entrainement-salle-chevreul-2434724
END:VEVENT
END:VCALENDAR
